BEGIN:VCALENDAR
VERSION:2.0
PRODID:icalendar-ruby
CALSCALE:GREGORIAN
METHOD:PUBLISH
BEGIN:VTIMEZONE
TZID:Australia/Perth
BEGIN:STANDARD
DTSTART:20090329T020000
TZOFFSETFROM:+0900
TZOFFSETTO:+0800
TZNAME:AWST
END:STANDARD
END:VTIMEZONE
BEGIN:VEVENT
DTSTAMP:20260420T211502Z
UID:inspection_3002671
DTSTART;TZID=Australia/Perth:20260502T103000
DTEND;TZID=Australia/Perth:20260502T110000
CLASS:PUBLIC
CREATED:20260417T144543
DESCRIPTION: 
LAST-MODIFIED:20260417T144543
LOCATION:1 / 13 Coolbellup Avenue\, COOLBELLUP WA 6163\, Australia
SUMMARY:1 / 13 Coolbellup Avenue\,  Inspection
URL;VALUE=URI:http://hartanto.au
END:VEVENT
END:VCALENDAR
