BEGIN:VCALENDAR
VERSION:2.0
PRODID:icalendar-ruby
CALSCALE:GREGORIAN
METHOD:PUBLISH
BEGIN:VTIMEZONE
TZID:Australia/Perth
BEGIN:STANDARD
DTSTART:20090329T020000
TZOFFSETFROM:+0900
TZOFFSETTO:+0800
TZNAME:AWST
END:STANDARD
END:VTIMEZONE
BEGIN:VEVENT
DTSTAMP:20260420T211523Z
UID:inspection_3005019
DTSTART;TZID=Australia/Perth:20260422T173000
DTEND;TZID=Australia/Perth:20260422T180000
CLASS:PUBLIC
CREATED:20260420T113048
DESCRIPTION: 
LAST-MODIFIED:20260420T113048
LOCATION:4 / 79 Gairloch Street\, MOUNT PLEASANT WA 6153\, Australia
SUMMARY:4 / 79 Gairloch Street\,  Inspection
URL;VALUE=URI:http://hartanto.au
END:VEVENT
END:VCALENDAR
