BEGIN:VCALENDAR
VERSION:2.0
PRODID:icalendar-ruby
CALSCALE:GREGORIAN
METHOD:PUBLISH
BEGIN:VTIMEZONE
TZID:Australia/Perth
BEGIN:STANDARD
DTSTART:20090329T020000
TZOFFSETFROM:+0900
TZOFFSETTO:+0800
TZNAME:AWST
END:STANDARD
END:VTIMEZONE
BEGIN:VEVENT
DTSTAMP:20260425T123449Z
UID:inspection_3005632
DTSTART;TZID=Australia/Perth:20260426T140000
DTEND;TZID=Australia/Perth:20260426T150000
CLASS:PUBLIC
CREATED:20260420T141546
DESCRIPTION: 
LAST-MODIFIED:20260420T141546
LOCATION:906 / 3 Kintail Road\, APPLECROSS WA 6153\, Australia
SUMMARY:906 / 3 Kintail Road\,  Inspection
URL;VALUE=URI:http://hartanto.au
END:VEVENT
END:VCALENDAR
