BEGIN:VCALENDAR
VERSION:2.0
PRODID:icalendar-ruby
CALSCALE:GREGORIAN
METHOD:PUBLISH
BEGIN:VTIMEZONE
TZID:Australia/Perth
BEGIN:STANDARD
DTSTART:20090329T020000
TZOFFSETFROM:+0900
TZOFFSETTO:+0800
TZNAME:AWST
END:STANDARD
END:VTIMEZONE
BEGIN:VEVENT
DTSTAMP:20260422T091244Z
UID:inspection_3009842
DTSTART;TZID=Australia/Perth:20260425T123000
DTEND;TZID=Australia/Perth:20260425T131500
CLASS:PUBLIC
CREATED:20260422T140039
DESCRIPTION: 
LAST-MODIFIED:20260422T140039
LOCATION:5B Trigger Loop\, WILLETTON WA 6155\, Australia
SUMMARY:5B Trigger Loop\,  Inspection
URL;VALUE=URI:http://hartanto.au
END:VEVENT
END:VCALENDAR
