BEGIN:VCALENDAR
VERSION:2.0
PRODID:icalendar-ruby
CALSCALE:GREGORIAN
METHOD:PUBLISH
BEGIN:VTIMEZONE
TZID:Australia/Perth
BEGIN:STANDARD
DTSTART:20090329T020000
TZOFFSETFROM:+0900
TZOFFSETTO:+0800
TZNAME:AWST
END:STANDARD
END:VTIMEZONE
BEGIN:VEVENT
DTSTAMP:20260424T094353Z
UID:inspection_3012630
DTSTART;TZID=Australia/Perth:20260425T113000
DTEND;TZID=Australia/Perth:20260425T120000
CLASS:PUBLIC
CREATED:20260424T123039
DESCRIPTION: 
LAST-MODIFIED:20260424T123039
LOCATION:1 / 31 Reynolds Road\, APPLECROSS WA 6153\, Australia
SUMMARY:1 / 31 Reynolds Road\,  Inspection
URL;VALUE=URI:http://hartanto.au
END:VEVENT
END:VCALENDAR
